BEGIN:VCALENDAR
VERSION:2.0
PRODID:-//Nisg̱a’a Lisims Government - ECPv6.15.17.1//NONSGML v1.0//EN
CALSCALE:GREGORIAN
METHOD:PUBLISH
X-WR-CALNAME:Nisg̱a’a Lisims Government
X-ORIGINAL-URL:https://www.nisgaanation.ca
X-WR-CALDESC:Events for Nisg̱a’a Lisims Government
REFRESH-INTERVAL;VALUE=DURATION:PT1H
X-Robots-Tag:noindex
X-PUBLISHED-TTL:PT1H
BEGIN:VTIMEZONE
TZID:America/Vancouver
BEGIN:DAYLIGHT
TZOFFSETFROM:-0800
TZOFFSETTO:-0700
TZNAME:PDT
DTSTART:20240310T100000
END:DAYLIGHT
BEGIN:STANDARD
TZOFFSETFROM:-0700
TZOFFSETTO:-0800
TZNAME:PST
DTSTART:20241103T090000
END:STANDARD
BEGIN:DAYLIGHT
TZOFFSETFROM:-0800
TZOFFSETTO:-0700
TZNAME:PDT
DTSTART:20250309T100000
END:DAYLIGHT
BEGIN:STANDARD
TZOFFSETFROM:-0700
TZOFFSETTO:-0800
TZNAME:PST
DTSTART:20251102T090000
END:STANDARD
BEGIN:DAYLIGHT
TZOFFSETFROM:-0800
TZOFFSETTO:-0700
TZNAME:PDT
DTSTART:20260308T100000
END:DAYLIGHT
BEGIN:STANDARD
TZOFFSETFROM:-0700
TZOFFSETTO:-0800
TZNAME:PST
DTSTART:20261101T090000
END:STANDARD
END:VTIMEZONE
BEGIN:VEVENT
DTSTART;TZID=America/Vancouver:20250605T100000
DTEND;TZID=America/Vancouver:20250605T150000
DTSTAMP:20260419T170707
CREATED:20250529T193514Z
LAST-MODIFIED:20250603T213741Z
UID:10000083-1749117600-1749135600@www.nisgaanation.ca
SUMMARY:Join Us for Jordan's Principle Information Session & ServiceBC Mobile Centre
DESCRIPTION:
URL:https://www.nisgaanation.ca/event/join-us-for-jordans-principle-information-session-servicebc-mobile-centre/
LOCATION:Gitlaxt’aamiks (formerly New Aiyansh)\, British Columbia\, Canada  VOJ 1A0\, Gitlaxt’aamiks (formerly New Aiyansh)\, British Columbia\, Canada VOJ 1A0\, British Columbia\, Canada
CATEGORIES:General Events
END:VEVENT
BEGIN:VEVENT
DTSTART;TZID=America/Vancouver:20250617T170000
DTEND;TZID=America/Vancouver:20250617T200000
DTSTAMP:20260419T170707
CREATED:20250516T235951Z
LAST-MODIFIED:20250516T235955Z
UID:10000081-1750179600-1750190400@www.nisgaanation.ca
SUMMARY:Economic Development | Call for future Entrepreneurs
DESCRIPTION:
URL:https://www.nisgaanation.ca/event/economic-development-call-for-future-entrepreneurs/
LOCATION:British Columbia
CATEGORIES:General Events
END:VEVENT
END:VCALENDAR