BEGIN:VCALENDAR
VERSION:2.0
PRODID:-//Nisg̱a’a Lisims Government - ECPv6.15.17.1//NONSGML v1.0//EN
CALSCALE:GREGORIAN
METHOD:PUBLISH
X-ORIGINAL-URL:https://www.nisgaanation.ca
X-WR-CALDESC:Events for Nisg̱a’a Lisims Government
REFRESH-INTERVAL;VALUE=DURATION:PT1H
X-Robots-Tag:noindex
X-PUBLISHED-TTL:PT1H
BEGIN:VTIMEZONE
TZID:America/Vancouver
BEGIN:DAYLIGHT
TZOFFSETFROM:-0800
TZOFFSETTO:-0700
TZNAME:PDT
DTSTART:20230312T100000
END:DAYLIGHT
BEGIN:STANDARD
TZOFFSETFROM:-0700
TZOFFSETTO:-0800
TZNAME:PST
DTSTART:20231105T090000
END:STANDARD
BEGIN:DAYLIGHT
TZOFFSETFROM:-0800
TZOFFSETTO:-0700
TZNAME:PDT
DTSTART:20240310T100000
END:DAYLIGHT
BEGIN:STANDARD
TZOFFSETFROM:-0700
TZOFFSETTO:-0800
TZNAME:PST
DTSTART:20241103T090000
END:STANDARD
BEGIN:DAYLIGHT
TZOFFSETFROM:-0800
TZOFFSETTO:-0700
TZNAME:PDT
DTSTART:20250309T100000
END:DAYLIGHT
BEGIN:STANDARD
TZOFFSETFROM:-0700
TZOFFSETTO:-0800
TZNAME:PST
DTSTART:20251102T090000
END:STANDARD
END:VTIMEZONE
BEGIN:VEVENT
DTSTART;VALUE=DATE:20240803
DTEND;VALUE=DATE:20240804
DTSTAMP:20260423T024831
CREATED:20240723T080902Z
LAST-MODIFIED:20240730T230833Z
UID:10000018-1722643200-1722729599@www.nisgaanation.ca
SUMMARY:Wedding
DESCRIPTION:Terrance Febril/ Dora McNeil\nDaughter of Mr & Mrs James McNeil\nSon of the Late Terrance Febril & Myra Boomhour \nKsim Ganada /Laxsgiik Wilps Bayt N’eekhl gans/ Ni’isjoohl Laxgalts’ap
URL:https://www.nisgaanation.ca/event/wedding-4/
LOCATION:Laxgalts’ap\, Laxgalts'ap\, British Columbia\, V0J 1X0\, Canada
CATEGORIES:Wedding Ceremony
END:VEVENT
BEGIN:VEVENT
DTSTART;VALUE=DATE:20240810
DTEND;VALUE=DATE:20240811
DTSTAMP:20260423T024831
CREATED:20240723T102602Z
LAST-MODIFIED:20240723T102609Z
UID:10000021-1723248000-1723334399@www.nisgaanation.ca
SUMMARY:Wedding
DESCRIPTION:Travis Peal/Jenn Cabecinha\nSon of Teresa & Don Spalding & Richard Azak\nDaughter of Frank and Ann Cabecinha \nLaxsgiik /Ganada Wilps Gitxhoon / Wilps Luux hoon Gitlaxt’aamiks\, BC\n(postponed 2025- date TBD)
URL:https://www.nisgaanation.ca/event/wedding-5/
LOCATION:Gitlaxt’aamiks (formerly New Aiyansh)\, British Columbia\, Canada  VOJ 1A0\, Gitlaxt’aamiks (formerly New Aiyansh)\, British Columbia\, Canada VOJ 1A0\, British Columbia\, Canada
CATEGORIES:Wedding Ceremony
END:VEVENT
BEGIN:VEVENT
DTSTART;VALUE=DATE:20240824
DTEND;VALUE=DATE:20240825
DTSTAMP:20260423T024831
CREATED:20240723T112815Z
LAST-MODIFIED:20240723T112815Z
UID:10000022-1724457600-1724543999@www.nisgaanation.ca
SUMMARY:Wedding
DESCRIPTION:Susan Azak/ Matthew Wesley\nDaughter of (the Late) Jerry & Audrey Azak\nSon of Deborah & Alan Azak \nGanada /Laxsgiik Wilps Axdii Wil Luugooda/ Wilps Hleek Gans Naaws Gitwinksihlkw /Gitlaxt’aamiks BC
URL:https://www.nisgaanation.ca/event/wedding-6/
LOCATION:Gitlaxt’aamiks (formerly New Aiyansh)\, British Columbia\, Canada  VOJ 1A0\, Gitlaxt’aamiks (formerly New Aiyansh)\, British Columbia\, Canada VOJ 1A0\, British Columbia\, Canada
CATEGORIES:Wedding Ceremony
END:VEVENT
END:VCALENDAR