BEGIN:VCALENDAR
VERSION:2.0
PRODID:-//Nisg̱a’a Lisims Government - ECPv6.15.17.1//NONSGML v1.0//EN
CALSCALE:GREGORIAN
METHOD:PUBLISH
X-WR-CALNAME:Nisg̱a’a Lisims Government
X-ORIGINAL-URL:https://www.nisgaanation.ca
X-WR-CALDESC:Events for Nisg̱a’a Lisims Government
REFRESH-INTERVAL;VALUE=DURATION:PT1H
X-Robots-Tag:noindex
X-PUBLISHED-TTL:PT1H
BEGIN:VTIMEZONE
TZID:America/Vancouver
BEGIN:DAYLIGHT
TZOFFSETFROM:-0800
TZOFFSETTO:-0700
TZNAME:PDT
DTSTART:20230312T100000
END:DAYLIGHT
BEGIN:STANDARD
TZOFFSETFROM:-0700
TZOFFSETTO:-0800
TZNAME:PST
DTSTART:20231105T090000
END:STANDARD
BEGIN:DAYLIGHT
TZOFFSETFROM:-0800
TZOFFSETTO:-0700
TZNAME:PDT
DTSTART:20240310T100000
END:DAYLIGHT
BEGIN:STANDARD
TZOFFSETFROM:-0700
TZOFFSETTO:-0800
TZNAME:PST
DTSTART:20241103T090000
END:STANDARD
BEGIN:DAYLIGHT
TZOFFSETFROM:-0800
TZOFFSETTO:-0700
TZNAME:PDT
DTSTART:20250309T100000
END:DAYLIGHT
BEGIN:STANDARD
TZOFFSETFROM:-0700
TZOFFSETTO:-0800
TZNAME:PST
DTSTART:20251102T090000
END:STANDARD
BEGIN:DAYLIGHT
TZOFFSETFROM:-0800
TZOFFSETTO:-0700
TZNAME:PDT
DTSTART:20260308T100000
END:DAYLIGHT
BEGIN:STANDARD
TZOFFSETFROM:-0700
TZOFFSETTO:-0800
TZNAME:PST
DTSTART:20261101T090000
END:STANDARD
END:VTIMEZONE
BEGIN:VEVENT
DTSTART;VALUE=DATE:20250926
DTEND;VALUE=DATE:20250928
DTSTAMP:20260422T151802
CREATED:20240725T071945Z
LAST-MODIFIED:20240725T071945Z
UID:10000049-1758844800-1759017599@www.nisgaanation.ca
SUMMARY:Stone Moving
DESCRIPTION:For the late:\nPatricia Angus\nRandy Watts\nHarold Barton Sr \nGiska’ast Wilps Daaxan Gingolx\, BC
URL:https://www.nisgaanation.ca/event/stone-moving-14/
LOCATION:Gingolx\, BC\, Gingolx
CATEGORIES:Stone Moving
END:VEVENT
BEGIN:VEVENT
DTSTART;TZID=America/Vancouver:20250714T093000
DTEND;TZID=America/Vancouver:20250717T160000
DTSTAMP:20260422T151802
CREATED:20250619T223536Z
LAST-MODIFIED:20250619T223540Z
UID:10000088-1752485400-1752768000@www.nisgaanation.ca
SUMMARY:Bear's Lair Dream Camp
DESCRIPTION:
URL:https://www.nisgaanation.ca/event/bears-lair-dream-camp/
LOCATION:Gingolx\, BC\, Gingolx
CATEGORIES:General Events
END:VEVENT
BEGIN:VEVENT
DTSTART;VALUE=DATE:20250517
DTEND;VALUE=DATE:20250518
DTSTAMP:20260422T151802
CREATED:20240724T131858Z
LAST-MODIFIED:20240724T132020Z
UID:10000037-1747440000-1747526399@www.nisgaanation.ca
SUMMARY:Wedding
DESCRIPTION:Charles Robinson/Vanessa Smythe\nSon of the late Alfred & Belinda Robinson\nDaughter of William & Leah Smythe \nGanada / Ksim Laxsgiik Wilps Axdii Wil Luugooda / Wilps Simoogidim Xsgaak Ceremony in Gingolx\, B.C\nBanquet & Dance in
URL:https://www.nisgaanation.ca/event/wedding-10/
LOCATION:Gingolx\, BC\, Gingolx
CATEGORIES:Wedding Ceremony
END:VEVENT
BEGIN:VEVENT
DTSTART;VALUE=DATE:20241230
DTEND;VALUE=DATE:20241231
DTSTAMP:20260422T151802
CREATED:20240723T232159Z
LAST-MODIFIED:20240911T114150Z
UID:10000033-1735516800-1735603199@www.nisgaanation.ca
SUMMARY:60th Diamond Wedding Jubilee Anniversary
DESCRIPTION:Mr & Mrs. Fred & Rose Doolan \nLaxgibuu/ksim Laxsgiik Wilps Kw’axsuu / Sganisims Sim’oogit-Sagaween Gingolx\, BC\nHosted by Children of Fred & Rose Doolan
URL:https://www.nisgaanation.ca/event/60th-diamond-wedding-jubilee-anniversary/
LOCATION:Gingolx\, BC\, Gingolx
CATEGORIES:Wedding Ceremony
END:VEVENT
BEGIN:VEVENT
DTSTART;VALUE=DATE:20240906
DTEND;VALUE=DATE:20240908
DTSTAMP:20260422T151802
CREATED:20240723T113703Z
LAST-MODIFIED:20240909T190230Z
UID:10000024-1725580800-1725753599@www.nisgaanation.ca
SUMMARY:Stone Moving
DESCRIPTION:For the late\nJames (Jimmy) Stewart\nFlora Barton \nGiska’ast Wilps K’amksiiwaa Gingolx\, BC
URL:https://www.nisgaanation.ca/event/stone-moving-3/
LOCATION:Gingolx\, BC\, Gingolx
CATEGORIES:Stone Moving
END:VEVENT
BEGIN:VEVENT
DTSTART;VALUE=DATE:20240830
DTEND;VALUE=DATE:20240901
DTSTAMP:20260422T151802
CREATED:20240723T113124Z
LAST-MODIFIED:20240807T002042Z
UID:10000023-1724976000-1725148799@www.nisgaanation.ca
SUMMARY:Stone Moving
DESCRIPTION:For the late:\nTeddy Venn\nMatthew Venn \nGanada Wilps Haym’aas Gingolx\,BC
URL:https://www.nisgaanation.ca/event/stone-moving-2/
LOCATION:Gingolx\, BC\, Gingolx
CATEGORIES:Stone Moving
END:VEVENT
BEGIN:VEVENT
DTSTART;VALUE=DATE:20240503
DTEND;VALUE=DATE:20240505
DTSTAMP:20260422T151802
CREATED:20240501T170554Z
LAST-MODIFIED:20240506T211157Z
UID:10000010-1714694400-1714867199@www.nisgaanation.ca
SUMMARY:Stonemoving
DESCRIPTION:For the late: \nLily E. McIntyre (nee Moore) \nLisa J. Latimer (nee Doolan) \nWilliam C Stewart \nClarence A Martin \nPhyllis M. Smart (nee Moore) \nEden shaylene Benson \nRose Stevens \nLaxgibuu \nWilps Niis Liis Yaan \nGinglox BC
URL:https://www.nisgaanation.ca/event/stonemoving/
LOCATION:Gingolx\, BC\, Gingolx
CATEGORIES:Stone Moving
END:VEVENT
END:VCALENDAR