BEGIN:VCALENDAR
VERSION:2.0
PRODID:-//Nisg̱a’a Lisims Government - ECPv6.15.17.1//NONSGML v1.0//EN
CALSCALE:GREGORIAN
METHOD:PUBLISH
X-ORIGINAL-URL:https://www.nisgaanation.ca
X-WR-CALDESC:Events for Nisg̱a’a Lisims Government
REFRESH-INTERVAL;VALUE=DURATION:PT1H
X-Robots-Tag:noindex
X-PUBLISHED-TTL:PT1H
BEGIN:VTIMEZONE
TZID:America/Vancouver
BEGIN:DAYLIGHT
TZOFFSETFROM:-0800
TZOFFSETTO:-0700
TZNAME:PDT
DTSTART:20240310T100000
END:DAYLIGHT
BEGIN:STANDARD
TZOFFSETFROM:-0700
TZOFFSETTO:-0800
TZNAME:PST
DTSTART:20241103T090000
END:STANDARD
BEGIN:DAYLIGHT
TZOFFSETFROM:-0800
TZOFFSETTO:-0700
TZNAME:PDT
DTSTART:20250309T100000
END:DAYLIGHT
BEGIN:STANDARD
TZOFFSETFROM:-0700
TZOFFSETTO:-0800
TZNAME:PST
DTSTART:20251102T090000
END:STANDARD
BEGIN:DAYLIGHT
TZOFFSETFROM:-0800
TZOFFSETTO:-0700
TZNAME:PDT
DTSTART:20260308T100000
END:DAYLIGHT
BEGIN:STANDARD
TZOFFSETFROM:-0700
TZOFFSETTO:-0800
TZNAME:PST
DTSTART:20261101T090000
END:STANDARD
END:VTIMEZONE
BEGIN:VEVENT
DTSTART;VALUE=DATE:20250809
DTEND;VALUE=DATE:20250810
DTSTAMP:20260419T123603
CREATED:20240724T143830Z
LAST-MODIFIED:20240724T143830Z
UID:10000043-1754697600-1754783999@www.nisgaanation.ca
SUMMARY:Wedding
DESCRIPTION:Jade Diamond Doolan/Jared Joseph Albro\nSon of Andrea (Doolan) Burrell & Nathaniel “George” Alexcee\nSon of Serina Ann and Late John Albro \nLaxsgiik – Wilps Sganisim Simoogit Sagaween – Chief Mountain Ceremony & reception Tsamiks (Vancouver)
URL:https://www.nisgaanation.ca/event/wedding-14/
LOCATION:Tsamiks\, Tsamiks
CATEGORIES:Wedding Ceremony
END:VEVENT
END:VCALENDAR